BEGIN:VCALENDAR
VERSION:2.0
PRODID:-//OŠ Rakek - ECPv5.2.0//NONSGML v1.0//EN
CALSCALE:GREGORIAN
METHOD:PUBLISH
X-WR-CALNAME:OŠ Rakek
X-ORIGINAL-URL:https://osrakek.si
X-WR-CALDESC:Events for OŠ Rakek
BEGIN:VTIMEZONE
TZID:Europe/Ljubljana
BEGIN:DAYLIGHT
TZOFFSETFROM:+0100
TZOFFSETTO:+0200
TZNAME:CEST
DTSTART:20230326T010000
END:DAYLIGHT
BEGIN:STANDARD
TZOFFSETFROM:+0200
TZOFFSETTO:+0100
TZNAME:CET
DTSTART:20231029T010000
END:STANDARD
END:VTIMEZONE
BEGIN:VEVENT
DTSTART;TZID=Europe/Ljubljana:20230404T082000
DTEND;TZID=Europe/Ljubljana:20230404T090500
DTSTAMP:20260422T104952
CREATED:20230308T191707Z
LAST-MODIFIED:20230308T191707Z
UID:52708-1680596400-1680599100@osrakek.si
SUMMARY:PZ BIO 9.b
DESCRIPTION:
URL:https://osrakek.si/event/pz-bio-9-b-5/
CATEGORIES:9B
END:VEVENT
END:VCALENDAR