BEGIN:VCALENDAR
VERSION:2.0
PRODID:-//OŠ Rakek - ECPv5.2.0//NONSGML v1.0//EN
CALSCALE:GREGORIAN
METHOD:PUBLISH
X-WR-CALNAME:OŠ Rakek
X-ORIGINAL-URL:https://osrakek.si
X-WR-CALDESC:Events for OŠ Rakek
BEGIN:VTIMEZONE
TZID:Europe/Ljubljana
BEGIN:DAYLIGHT
TZOFFSETFROM:+0100
TZOFFSETTO:+0200
TZNAME:CEST
DTSTART:20260329T010000
END:DAYLIGHT
BEGIN:STANDARD
TZOFFSETFROM:+0200
TZOFFSETTO:+0100
TZNAME:CET
DTSTART:20261025T010000
END:STANDARD
END:VTIMEZONE
BEGIN:VEVENT
DTSTART;TZID=Europe/Ljubljana:20260521T130500
DTEND;TZID=Europe/Ljubljana:20260521T135000
DTSTAMP:20260422T024503
CREATED:20260330T111340Z
LAST-MODIFIED:20260330T111340Z
UID:68639-1779368700-1779371400@osrakek.si
SUMMARY:PZ NI2\, NI3 (8. a\, 8. b\, 9. a\, 9. b)
DESCRIPTION:
URL:https://osrakek.si/event/pz-ni2-ni3-8-a-8-b-9-a-9-b/
CATEGORIES:8A,8B,9A,9B
END:VEVENT
END:VCALENDAR